BEGIN:VCALENDAR
VERSION:2.0
PRODID:-//ArcelorMittal - ECPv6.5.0.1//NONSGML v1.0//EN
CALSCALE:GREGORIAN
METHOD:PUBLISH
X-ORIGINAL-URL:https://rails.arcelormittal.com/es/
X-WR-CALDESC:Events for ArcelorMittal
REFRESH-INTERVAL;VALUE=DURATION:PT1H
X-Robots-Tag:noindex
X-PUBLISHED-TTL:PT1H
BEGIN:VTIMEZONE
TZID:UTC
BEGIN:STANDARD
TZOFFSETFROM:+0000
TZOFFSETTO:+0000
TZNAME:UTC
DTSTART:20030101T000000
END:STANDARD
END:VTIMEZONE
BEGIN:VEVENT
DTSTART;VALUE=DATE:20030319
DTEND;VALUE=DATE:20030320
DTSTAMP:20260424T161553
CREATED:20221031T091307Z
LAST-MODIFIED:20221220T112126Z
UID:17569-1048032000-1048118399@rails.arcelormittal.com
SUMMARY:ArcelorMittal estuvo presente en Railway Interchange 2019
DESCRIPTION:Si desea visitarnos o establecer una reunión\, por favor contáctenos para organizarla\, esperamos recibir su visita. \nStand 1237 – REMSA.
URL:https://rails.arcelormittal.com/es/eventos/36-arcelormittal-estuvo-presente-en-railway-interchange-2019/
END:VEVENT
END:VCALENDAR